BEGIN:VCALENDAR
VERSION:2.0
PRODID:-//Serve The Border - ECPv6.15.20//NONSGML v1.0//EN
CALSCALE:GREGORIAN
METHOD:PUBLISH
X-WR-CALNAME:Serve The Border
X-ORIGINAL-URL:https://servetheborder.org
X-WR-CALDESC:Events for Serve The Border
REFRESH-INTERVAL;VALUE=DURATION:PT1H
X-Robots-Tag:noindex
X-PUBLISHED-TTL:PT1H
BEGIN:VTIMEZONE
TZID:America/Chicago
BEGIN:DAYLIGHT
TZOFFSETFROM:-0600
TZOFFSETTO:-0500
TZNAME:CDT
DTSTART:20230312T080000
END:DAYLIGHT
BEGIN:STANDARD
TZOFFSETFROM:-0500
TZOFFSETTO:-0600
TZNAME:CST
DTSTART:20231105T070000
END:STANDARD
BEGIN:DAYLIGHT
TZOFFSETFROM:-0600
TZOFFSETTO:-0500
TZNAME:CDT
DTSTART:20240310T080000
END:DAYLIGHT
BEGIN:STANDARD
TZOFFSETFROM:-0500
TZOFFSETTO:-0600
TZNAME:CST
DTSTART:20241103T070000
END:STANDARD
BEGIN:DAYLIGHT
TZOFFSETFROM:-0600
TZOFFSETTO:-0500
TZNAME:CDT
DTSTART:20250309T080000
END:DAYLIGHT
BEGIN:STANDARD
TZOFFSETFROM:-0500
TZOFFSETTO:-0600
TZNAME:CST
DTSTART:20251102T070000
END:STANDARD
END:VTIMEZONE
BEGIN:VEVENT
DTSTART;VALUE=DATE:20240221
DTEND;VALUE=DATE:20240225
DTSTAMP:20260423T112311
CREATED:20240109T075625Z
LAST-MODIFIED:20240109T080330Z
UID:413-1708473600-1708819199@servetheborder.org
SUMMARY:Serve the Border: Del Rio Sector Mega Support Event 2024
DESCRIPTION:This is the big one!\nOur team will be going down to Del Rio Sector to do something bigger than any event yet. We are going to feed all 1925 Border Patrol Agents in all 9 offices in the Del Rio Sector. We will also be feeding all DPS trooper in rotation on those dates.\nIf you want to come help\, please reach out. We will put you to work.\nIf you would like to donate\, we could sure use the help. This one is going to cost a bunch. \nAs always\, thank you for your support from the team at servetheborder.org \n– Dave
URL:https://servetheborder.org/event/serve-the-border-del-rio-sector-mega-support-event-2024/
ATTACH;FMTTYPE=image/webp:https://servetheborder.org/wp-content/uploads/2024/01/texas-flag_e6e27c2a-33f5-4c65-beca-39b2d2f11c63_1024x.webp
ORGANIZER;CN="Dave Alexander":MAILTO:dave@servetheborder.org
END:VEVENT
END:VCALENDAR